BEGIN:VCALENDAR
VERSION:2.0
PRODID:-//hacksw/handcal//NONSGML v1.0//EN
BEGIN:VEVENT
UID:ffd72c854e35fff63cebd447f7cd84d8
DTSTAMP:20260419T134228Z

DTSTART:20221127T120000
DTEND:20221127T150000
SUMMARY:3h Inside Flow Workshop with trenditskaya.tatiana (Russian)
DESCRIPTION:Workshop "Fundamentals of Inside Flow"

X-ALT-DESC;FMTTYPE=text/html:<!DOCTYPE HTML PUBLIC "-//W3C//DTD HTML 3.2//EN">\n<HTML>\n<HEAD>\n<META NAME="Generator" CONTENT="MS Exchange Server version 08.00.0681.000">\n<TITLE></TITLE>\n</HEAD>\n<BODY>\n<!-- Converted from text/rtf format -->\n\n<p>Workshop "Fundamentals of Inside Flow"</p>\n\n</BODY>\n</HTML>

LOCATION:Fitness studio "Yoga&Fitness" Proletarskaya 258 Maykop Adygeya 385016 Russia
END:VEVENT

END:VCALENDAR
