BEGIN:VCALENDAR
VERSION:2.0
PRODID:-//hacksw/handcal//NONSGML v1.0//EN
BEGIN:VEVENT
UID:903d54e43873c695c9561ba93b26ad09
DTSTAMP:20260422T011904Z

DTSTART:20230210T183000
DTEND:20230210T200000
SUMMARY:Inside Flow Workshop mit Hie Kim
DESCRIPTION:Hie Kim kommt nach Wien - und wir freuen uns total, dass er einen Workshop bei uns abhält! \nhttps://ananya.at/events/insideflow-hie-kim/\n 

X-ALT-DESC;FMTTYPE=text/html:<!DOCTYPE HTML PUBLIC "-//W3C//DTD HTML 3.2//EN">\n<HTML>\n<HEAD>\n<META NAME="Generator" CONTENT="MS Exchange Server version 08.00.0681.000">\n<TITLE></TITLE>\n</HEAD>\n<BODY>\n<!-- Converted from text/rtf format -->\n\n<p>Hie Kim kommt nach Wien - und wir freuen uns total, dass er einen Workshop bei uns abhält! </p><br /><p><a href="https://ananya.at/events/insideflow-hie-kim/">https://ananya.at/events/insideflow-hie-kim/</a></p><br /><p> </p>\n\n</BODY>\n</HTML>

LOCATION:Mollardgasse 34 Vienna Wien 1060 Austria
END:VEVENT

END:VCALENDAR
