BEGIN:VCALENDAR
VERSION:2.0
PRODID:-//hacksw/handcal//NONSGML v1.0//EN
BEGIN:VEVENT
UID:58d9b36da110d776952cd75710d6e2ec
DTSTAMP:20260422T011740Z

DTSTART:20230616T000000
DTEND:20230618T235959
SUMMARY:SOLD OUT I 20h Teacher Training with Rebecca in Southbury, Connecticut, USA (20 TRC)
DESCRIPTION:Further info and registration here: dancinbecka.com/inside-flow-teacher-trainings\nWaitlist for next TT infos here: https://www.instituteofmovement.com/insideflow-waitlist 

X-ALT-DESC;FMTTYPE=text/html:<!DOCTYPE HTML PUBLIC "-//W3C//DTD HTML 3.2//EN">\n<HTML>\n<HEAD>\n<META NAME="Generator" CONTENT="MS Exchange Server version 08.00.0681.000">\n<TITLE></TITLE>\n</HEAD>\n<BODY>\n<!-- Converted from text/rtf format -->\n\n<p>Further info and registration here: <a href="http://dancinbecka.com/inside-flow-teacher-trainings" target="_blank" rel="noopener noreferrer" data-saferedirecturl="https://www.google.com/url?q=http://dancinbecka.com/inside-flow-teacher-trainings&amp;source=gmail&amp;ust=1679724716077000&amp;usg=AOvVaw1hwRLAuTw1S6B6nQOz95ZV"><b>dancinbecka.com/inside-<wbr />flow-teacher-trainings</b></a></p><br /><p>Waitlist for next TT infos here: <a href="https://www.instituteofmovement.com/insideflow-waitlist" target="_blank" rel="noopener noreferrer" data-saferedirecturl="https://www.google.com/url?q=https://www.instituteofmovement.com/insideflow-waitlist&amp;source=gmail&amp;ust=1681451141620000&amp;usg=AOvVaw0xoql_og0xWy5pXFnA3ElN">https://www.<wbr />instituteofmovement.com/<wbr />insideflow-waitlist</a> </p>\n\n</BODY>\n</HTML>

LOCATION:The Heritage Hotel & Spa Southbury Connecticut United States
END:VEVENT

END:VCALENDAR
