BEGIN:VCALENDAR
VERSION:2.0
PRODID:-//hacksw/handcal//NONSGML v1.0//EN
BEGIN:VEVENT
UID:d4f930f760ccbd6e2e95e1d50c15f9f7
DTSTAMP:20260425T201354Z

DTSTART:20240210T213000
DTEND:20240210T223000
SUMMARY: Inside Flow - jeden Samstag 10:15 in Basel - 2024-02-10
DESCRIPTION:Inside Flow Klasse jeden Samstag\n \nNicole führt dich jeden Samstag durch eine toll aufgebaute Inside Flow Klasse in ihrem schönen Studio in Basel.\n  \nIch freue mich dich bald begrüssen zu dürfen - see you on the mat!

X-ALT-DESC;FMTTYPE=text/html:<!DOCTYPE HTML PUBLIC "-//W3C//DTD HTML 3.2//EN">\n<HTML>\n<HEAD>\n<META NAME="Generator" CONTENT="MS Exchange Server version 08.00.0681.000">\n<TITLE></TITLE>\n</HEAD>\n<BODY>\n<!-- Converted from text/rtf format -->\n\nInside Flow Klasse jeden Samstag<br /> <br />Nicole führt dich jeden Samstag durch eine toll aufgebaute Inside Flow Klasse in ihrem schönen Studio in Basel.<br />  <br />Ich freue mich dich bald begrüssen zu dürfen - see you on the mat!\n\n</BODY>\n</HTML>

LOCATION:Rümelinbachweg 64 Basel Basel-Landschaft 4054 Switzerland
END:VEVENT

END:VCALENDAR
