BEGIN:VCALENDAR
VERSION:2.0
PRODID:-//hacksw/handcal//NONSGML v1.0//EN
BEGIN:VEVENT
UID:e0a7dd6334db6199db4ed7397028b995
DTSTAMP:20260424T205800Z

DTSTART:20240225T101500
DTEND:20240225T111500
SUMMARY:Inside Flow Class with Lauren Berghman | USA | Mansfield, MA | 10:15AM EST (60 min)(English) (Sunday) [In Person] - 2024-02-25
DESCRIPTION:Inside Flow Class with Lauren Berghman | USA | Mansfield, MA | 10:15AM EST (60 min)(English) (Sunday) [In Person]

X-ALT-DESC;FMTTYPE=text/html:<!DOCTYPE HTML PUBLIC "-//W3C//DTD HTML 3.2//EN">\n<HTML>\n<HEAD>\n<META NAME="Generator" CONTENT="MS Exchange Server version 08.00.0681.000">\n<TITLE></TITLE>\n</HEAD>\n<BODY>\n<!-- Converted from text/rtf format -->\n\nInside Flow Class with Lauren Berghman | USA | Mansfield, MA | 10:15AM EST (60 min)(English) (Sunday) [In Person]\n\n</BODY>\n</HTML>

LOCATION:1 West Church Street, Unit D Mansfield Massachusetts 02048 United States
END:VEVENT

END:VCALENDAR
