BEGIN:VCALENDAR
VERSION:2.0
PRODID:-//hacksw/handcal//NONSGML v1.0//EN
BEGIN:VEVENT
UID:829c4371c1ae878a6add958b10f6c5b9
DTSTAMP:20260422T011741Z

DTSTART:20240404T191500
DTEND:20240404T203000
SUMMARY:Weekly Inside Flow Class with Sabine at Gesundheitszentrum Bodman / Germany - 2024-04-04
DESCRIPTION:Every thursday we come together in this Inside Flow class to sweat, laugh and move as one with lots of joy, strength and grace to the flows of Young Ho Kim and his fellow travellers of this beautiful Inside Flow Community   :-)\n 

X-ALT-DESC;FMTTYPE=text/html:<!DOCTYPE HTML PUBLIC "-//W3C//DTD HTML 3.2//EN">\n<HTML>\n<HEAD>\n<META NAME="Generator" CONTENT="MS Exchange Server version 08.00.0681.000">\n<TITLE></TITLE>\n</HEAD>\n<BODY>\n<!-- Converted from text/rtf format -->\n\n<p>Every thursday we come together in this Inside Flow class to sweat, laugh and move as one with lots of joy, strength and grace to the flows of Young Ho Kim and his fellow travellers of this beautiful Inside Flow Community   :-)</p><br /><p> </p>\n\n</BODY>\n</HTML>

LOCATION:Gesundheitszentrum Bodman Im Ried 4 Bodman-Ludwigshafen Baden-Wurttemberg 78351 Germany
END:VEVENT

END:VCALENDAR
