BEGIN:VCALENDAR
VERSION:2.0
PRODID:-//hacksw/handcal//NONSGML v1.0//EN
BEGIN:VEVENT
UID:afcb10d0bf6568e788d85adecbcff9c3
DTSTAMP:20260419T143157Z

DTSTART:20240511T110000
DTEND:20240511T130000
SUMMARY:Align to Inside Flow
DESCRIPTION:Möchtest Du dich in deiner Inside Flow Praxis sicherer in den zentralen Übergängen und Asanas fühlen? Möchtest Du deine Flow-Praxis mit gesunder Ausrichtung bereichern und nachhaltig gestalten? Oder möchtest Du mit Inside Flow anfangen, möchtest jedoch zuerst ein gutes Fundament dafür schaffen? Dann ist Align to Flow genau das was Du suchst.\nIn diesem Workshop liegt der Fokus auf zentralen Elemente aus der Inside Flow Praxis. Wir schauen uns gemeinsam die Ausrichtung im Detail an und lernen verschiedene Übungen und Techniken, um sowohl Kraft als auch Beweglichkeit zu kultivieren und eine gesunde Ausrichtung in deine Flow-Praxis zu integrieren.\n(2 TRC)\nKursleiterin: Alexandra Schilken\nOrt: HotYogaBox, Doktor-Anton-Schneider-Straße 28a, 6850 Dornbirn, Österreich

X-ALT-DESC;FMTTYPE=text/html:<!DOCTYPE HTML PUBLIC "-//W3C//DTD HTML 3.2//EN">\n<HTML>\n<HEAD>\n<META NAME="Generator" CONTENT="MS Exchange Server version 08.00.0681.000">\n<TITLE></TITLE>\n</HEAD>\n<BODY>\n<!-- Converted from text/rtf format -->\n\n<div class="xdj266r x11i5rnm xat24cr x1mh8g0r x1vvkbs">Möchtest Du dich in deiner Inside Flow Praxis sicherer in den zentralen Übergängen und Asanas fühlen? Möchtest Du deine Flow-Praxis mit gesunder Ausrichtung bereichern und nachhaltig gestalten? Oder möchtest Du mit Inside Flow anfangen, möchtest jedoch zuerst ein gutes Fundament dafür schaffen? Dann ist Align to Flow genau das was Du suchst.</div><br /><div class="x11i5rnm xat24cr x1mh8g0r x1vvkbs xtlvy1s">In diesem Workshop liegt der Fokus auf zentralen Elemente aus der Inside Flow Praxis. Wir schauen uns gemeinsam die Ausrichtung im Detail an und lernen verschiedene Übungen und Techniken, um sowohl Kraft als auch Beweglichkeit zu kultivieren und eine gesunde Ausrichtung in deine Flow-Praxis zu integrieren.</div><br /><div class="x11i5rnm xat24cr x1mh8g0r x1vvkbs xtlvy1s">(2 TRC)</div><br /><div class="x11i5rnm xat24cr x1mh8g0r x1vvkbs xtlvy1s">Kursleiterin: Alexandra Schilken</div><br /><div class="x11i5rnm xat24cr x1mh8g0r x1vvkbs xtlvy1s">Ort: HotYogaBox, Doktor-Anton-Schneider-Straße 28a, 6850 Dornbirn, Österreich</div>\n\n</BODY>\n</HTML>

LOCATION:Dr.-Anton-Schneider-Str. 28a 6850 Vorarlberg Dornbirn Austria
END:VEVENT

END:VCALENDAR
