BEGIN:VCALENDAR
VERSION:2.0
PRODID:-//hacksw/handcal//NONSGML v1.0//EN
BEGIN:VEVENT
UID:6dab7aec3266f75f912044c5b5112c83
DTSTAMP:20260422T030534Z

DTSTART:20250308T030000
DTEND:20250308T050000
SUMMARY:Online Master Class Inside Flow "Soft Power" in English 
DESCRIPTION:Join our online Master Class Inside Flow "Soft Power"\nJunior Teachers Elena &amp; Vicky\nSave the date March'8 at 3 pm Moscow time \n2TRC\nCan't wait to flow together!\n 

X-ALT-DESC;FMTTYPE=text/html:<!DOCTYPE HTML PUBLIC "-//W3C//DTD HTML 3.2//EN">\n<HTML>\n<HEAD>\n<META NAME="Generator" CONTENT="MS Exchange Server version 08.00.0681.000">\n<TITLE></TITLE>\n</HEAD>\n<BODY>\n<!-- Converted from text/rtf format -->\n\n<p>Join our online Master Class Inside Flow "Soft Power"</p><br /><p>Junior Teachers Elena &amp; Vicky</p><br /><p>Save the date March'8 at 3 pm Moscow time </p><br /><p>2TRC</p><br /><p>Can't wait to flow together!</p><br /><p> </p>\n\n</BODY>\n</HTML>

LOCATION:Russia
END:VEVENT

END:VCALENDAR
