BEGIN:VCALENDAR
VERSION:2.0
PRODID:-//hacksw/handcal//NONSGML v1.0//EN
BEGIN:VEVENT
UID:f74f7c4819d8fb895b3d8fa86855ba64
DTSTAMP:20260422T012331Z

DTSTART:20260123T100000
DTEND:20260308T160000
SUMMARY:50h Inside Flow Grundausbildung (50 TRC) | Nürnberg, Germany | 🇩🇪 Deutsch
DESCRIPTION:Anmeldung per Mail: nicole@lifeandyoga.de\n\nAusbildungszeiten:\n\nWochenende 23.01.2026 – 25.01.2026 Hie Kim\nWochenende 20.02.2026 – 22.02.2026 Young Ho Kim\nWochenende 06.03.2026 – 08.03.2026 Anna Herz\n\nUhrzeit: Freitags 14.00 – 18.00 Uhr / Samstag 11.00 – 18.00 Uhr / Sonntag 10.00 -17.00 Uhr\n\nLocation: Space Yoga Studio – bitte beachte:\nFreitags in Nürnberg, Bucher Str. 79a // Samstag und Sonntag in Fürth, Malzböden Schwabacher Str. 106

X-ALT-DESC;FMTTYPE=text/html:<!DOCTYPE HTML PUBLIC "-//W3C//DTD HTML 3.2//EN">\n<HTML>\n<HEAD>\n<META NAME="Generator" CONTENT="MS Exchange Server version 08.00.0681.000">\n<TITLE></TITLE>\n</HEAD>\n<BODY>\n<!-- Converted from text/rtf format -->\n\nAnmeldung per Mail: nicole@lifeandyoga.de<br /><br />Ausbildungszeiten:<br /><br />Wochenende 23.01.2026 – 25.01.2026 Hie Kim<br />Wochenende 20.02.2026 – 22.02.2026 Young Ho Kim<br />Wochenende 06.03.2026 – 08.03.2026 Anna Herz<br /><br />Uhrzeit: Freitags 14.00 – 18.00 Uhr / Samstag 11.00 – 18.00 Uhr / Sonntag 10.00 -17.00 Uhr<br /><br />Location: Space Yoga Studio – bitte beachte:<br />Freitags in Nürnberg, Bucher Str. 79a // Samstag und Sonntag in Fürth, Malzböden Schwabacher Str. 106\n\n</BODY>\n</HTML>

LOCATION:Nürnberg & Fürth Germany
END:VEVENT

END:VCALENDAR
