BEGIN:VCALENDAR
VERSION:2.0
PRODID:-//hacksw/handcal//NONSGML v1.0//EN
BEGIN:VEVENT
UID:776a9909068c113b1ecd87f18fbde02e
DTSTAMP:20260422T012326Z

DTSTART:20260531T100000
DTEND:20260606T160000
SUMMARY:50h Inside Flow Elite Training (for Junior Teachers & higher) (50 TRC) | Frankfurt, Germany | 🇬🇧 English 
DESCRIPTION:You’ve been teaching Inside Flow. You love it. You live it. And you’re not done growing after becoming a Junior, Senior or Pro Teacher?\n\nAfter the groundbreaking first edition in 2024, the Inside Flow Elite Training returns in 2026 – more refined, more connected, and more powerful than ever. This is your chance to go one level deeper: to sharpen your skills, evolve your presence, and step into the next stage of your Inside Flow teaching career.\n\n🎯 Let’s level up – together.\nJoin the second round of this 7-day intensive and unlock the tools, mindset, and community support to grow as a global Inside Flow professional.\n\n🧭 What’s waiting for you in 2026:\n\nDirect & exclusive training with Young Ho Kim, the founder of Inside Flow\nA full week at the Inside Flow HQ in Frankfurt, Germany – where it all began\nRefined teaching & communication techniques to elevate your presence\nStrategies for troubleshooting and staying grounded under pressure\nHow to lead your own teacher trainings and become a go-to mentor\nGuidance to run your Inside Flow Factory and build lasting communities\nPlenty of sweaty, emotional, unforgettable Inside Flows\nThe chance to connect with an elite circle of Junior, Senior & Pro Teachers from around the world\nIndividual feedback, deep group work, personal breakthroughs – and an inspiring dinner to top it all off\n\n🎓 Who is it for?\n\nThis training is exclusively open to Junior, Senior & Pro Inside Flow Teachers. Whether you joined the first round or you’ve been waiting for your moment – this is the place to expand your impact, find your voice, and step into the next level of teaching.\n\n🌍 The Community\n\nYou’ll train side-by-side with brilliant teachers from all over the world.\nYou’ll laugh, sweat, cry, teach, learn, and build lasting connections.\nAnd you’ll leave not only with more knowledge – but with new friends, mentors, and future collaborators.

X-ALT-DESC;FMTTYPE=text/html:<!DOCTYPE HTML PUBLIC "-//W3C//DTD HTML 3.2//EN">\n<HTML>\n<HEAD>\n<META NAME="Generator" CONTENT="MS Exchange Server version 08.00.0681.000">\n<TITLE></TITLE>\n</HEAD>\n<BODY>\n<!-- Converted from text/rtf format -->\n\nYou’ve been teaching Inside Flow. You love it. You live it. And you’re not done growing after becoming a Junior, Senior or Pro Teacher?<br /><br />After the groundbreaking first edition in 2024, the Inside Flow Elite Training returns in 2026 – more refined, more connected, and more powerful than ever. This is your chance to go one level deeper: to sharpen your skills, evolve your presence, and step into the next stage of your Inside Flow teaching career.<br /><br />🎯 Let’s level up – together.<br />Join the second round of this 7-day intensive and unlock the tools, mindset, and community support to grow as a global Inside Flow professional.<br /><br />🧭 What’s waiting for you in 2026:<br /><br />Direct & exclusive training with Young Ho Kim, the founder of Inside Flow<br />A full week at the Inside Flow HQ in Frankfurt, Germany – where it all began<br />Refined teaching & communication techniques to elevate your presence<br />Strategies for troubleshooting and staying grounded under pressure<br />How to lead your own teacher trainings and become a go-to mentor<br />Guidance to run your Inside Flow Factory and build lasting communities<br />Plenty of sweaty, emotional, unforgettable Inside Flows<br />The chance to connect with an elite circle of Junior, Senior & Pro Teachers from around the world<br />Individual feedback, deep group work, personal breakthroughs – and an inspiring dinner to top it all off<br /><br />🎓 Who is it for?<br /><br />This training is exclusively open to Junior, Senior & Pro Inside Flow Teachers. Whether you joined the first round or you’ve been waiting for your moment – this is the place to expand your impact, find your voice, and step into the next level of teaching.<br /><br />🌍 The Community<br /><br />You’ll train side-by-side with brilliant teachers from all over the world.<br />You’ll laugh, sweat, cry, teach, learn, and build lasting connections.<br />And you’ll leave not only with more knowledge – but with new friends, mentors, and future collaborators.\n\n</BODY>\n</HTML>

LOCATION:Inside Yoga Studio Stephanstr. 3 Frankfurt Germany
END:VEVENT

END:VCALENDAR
