BEGIN:VCALENDAR
VERSION:2.0
PRODID:-//hacksw/handcal//NONSGML v1.0//EN
BEGIN:VEVENT
UID:2b98bfce865c219bdd26da339ce79f98
DTSTAMP:20260422T012334Z

DTSTART:20260125T140000
DTEND:20260125T163000
SUMMARY:Align to Inside Flow Workshop with Ami Norton in London, United Kingdom
DESCRIPTION:Do you want to become more confident in key transitions and asanas we use in vinyasa flow? Do you want to create a healthy and sustainable flow practice that you can do for years to come? Or have you wanted to start flow yoga classes but want to make sure you have a secure foundation first? \nThis workshop will first focus on selected asanas/transitions from vinyasa flow & Inside Flow. You will learn more about their alignment as well as learning exercises and techniques to build up the strength or flexibility to flow through them confidently in your practice.\nThen Ami uses her passion for yoga, dance, and music to guide you through an Inside Flows that will leave you feeling connected – both to yourself and others. In Inside Flow, we bring together a choreography of yoga asanas, where breath and movement become one. We’ll also take time to look at the alignment of specific transitions so that you can find your flow and experience that flow state. Together we will laugh, maybe cry, sweat, and most certainly grow. Inside Flow is a challenging practice, but it’s definitely worth it.\n\n This workshop is great for anyone who…\n\n– Loves yoga and music\n– Wants to feel more confident in their alignment for more dynamic practices\n– Enjoys getting creative on the yoga mat\n– Wants to experience a new evolution of vinyasa yoga loved across the world.\n\nEarly bird price until 5th January!\n\nRegistered Inside Flow Teachers will receive a certificate for 2 TRCs.

X-ALT-DESC;FMTTYPE=text/html:<!DOCTYPE HTML PUBLIC "-//W3C//DTD HTML 3.2//EN">\n<HTML>\n<HEAD>\n<META NAME="Generator" CONTENT="MS Exchange Server version 08.00.0681.000">\n<TITLE></TITLE>\n</HEAD>\n<BODY>\n<!-- Converted from text/rtf format -->\n\nDo you want to become more confident in key transitions and asanas we use in vinyasa flow? Do you want to create a healthy and sustainable flow practice that you can do for years to come? Or have you wanted to start flow yoga classes but want to make sure you have a secure foundation first? <br />This workshop will first focus on selected asanas/transitions from vinyasa flow & Inside Flow. You will learn more about their alignment as well as learning exercises and techniques to build up the strength or flexibility to flow through them confidently in your practice.<br />Then Ami uses her passion for yoga, dance, and music to guide you through an Inside Flows that will leave you feeling connected – both to yourself and others. In Inside Flow, we bring together a choreography of yoga asanas, where breath and movement become one. We’ll also take time to look at the alignment of specific transitions so that you can find your flow and experience that flow state. Together we will laugh, maybe cry, sweat, and most certainly grow. Inside Flow is a challenging practice, but it’s definitely worth it.<br /><br /> This workshop is great for anyone who…<br /><br />– Loves yoga and music<br />– Wants to feel more confident in their alignment for more dynamic practices<br />– Enjoys getting creative on the yoga mat<br />– Wants to experience a new evolution of vinyasa yoga loved across the world.<br /><br />Early bird price until 5th January!<br /><br />Registered Inside Flow Teachers will receive a certificate for 2 TRCs.\n\n</BODY>\n</HTML>

LOCATION:Lift Islington 45 White Lion St London England N1 9PW United Kingdom
END:VEVENT

END:VCALENDAR
