BEGIN:VCALENDAR
VERSION:2.0
PRODID:-//hacksw/handcal//NONSGML v1.0//EN
BEGIN:VEVENT
UID:db9287e2e912d7e870708090e0a30db8
DTSTAMP:20260419T151119Z

DTSTART:20230212T120000
DTEND:20230212T150000
SUMMARY:3h Inside Flow Workshop with trenditskaya.tatiana (Russian)
DESCRIPTION:Воркшоп "Отстройки в Inside Flow"

X-ALT-DESC;FMTTYPE=text/html:<!DOCTYPE HTML PUBLIC "-//W3C//DTD HTML 3.2//EN">\n<HTML>\n<HEAD>\n<META NAME="Generator" CONTENT="MS Exchange Server version 08.00.0681.000">\n<TITLE></TITLE>\n</HEAD>\n<BODY>\n<!-- Converted from text/rtf format -->\n\n<p>Воркшоп "Отстройки в Inside Flow"</p>\n\n</BODY>\n</HTML>

LOCATION:Fitness studio "Yoga&Fitness" Proletarskaya 258 Maykop Adygeya 385016 Russia
END:VEVENT

END:VCALENDAR
