BEGIN:VCALENDAR
VERSION:2.0
PRODID:-//hacksw/handcal//NONSGML v1.0//EN
BEGIN:VEVENT
UID:d80851832ecd45251640c463680c7572
DTSTAMP:20260419T224000Z

DTSTART:20240323T000000
DTEND:20240505T235959
SUMMARY:30h Inside Flow Online Grundausbildung (30 TRC) | online | 🇩🇪 Deutsch
DESCRIPTION:Mehr Information und Anmeldung hier: https://tintyoga.com/academy/inside-flow-grundausbildung/

X-ALT-DESC;FMTTYPE=text/html:<!DOCTYPE HTML PUBLIC "-//W3C//DTD HTML 3.2//EN">\n<HTML>\n<HEAD>\n<META NAME="Generator" CONTENT="MS Exchange Server version 08.00.0681.000">\n<TITLE></TITLE>\n</HEAD>\n<BODY>\n<!-- Converted from text/rtf format -->\n\n<p>Mehr Information und Anmeldung hier: https://tintyoga.com/academy/inside-flow-grundausbildung/</p>\n\n</BODY>\n</HTML>

LOCATION:Germany
END:VEVENT

END:VCALENDAR
