BEGIN:VCALENDAR
VERSION:2.0
PRODID:-//hacksw/handcal//NONSGML v1.0//EN
BEGIN:VEVENT
UID:23c8a38aeec7f15d05c213f119a6f6ec
DTSTAMP:20260422T012009Z

DTSTART:20251129T080000
DTEND:20251130T180000
SUMMARY:Build Up Vinyasa Modern Techniques in Inside Flow 
DESCRIPTION:Learn How to ? \n1. Build up Inside Flow class with the latest techniques \n2. Create Build Up Playlist with specific themes \n3. Cutting the good ways to simplify the complex flow into approachable flow \n4. Create different energy during build up \n5. Looping Fundamental techniques 

X-ALT-DESC;FMTTYPE=text/html:<!DOCTYPE HTML PUBLIC "-//W3C//DTD HTML 3.2//EN">\n<HTML>\n<HEAD>\n<META NAME="Generator" CONTENT="MS Exchange Server version 08.00.0681.000">\n<TITLE></TITLE>\n</HEAD>\n<BODY>\n<!-- Converted from text/rtf format -->\n\nLearn How to ? <br />1. Build up Inside Flow class with the latest techniques <br />2. Create Build Up Playlist with specific themes <br />3. Cutting the good ways to simplify the complex flow into approachable flow <br />4. Create different energy during build up <br />5. Looping Fundamental techniques \n\n</BODY>\n</HTML>

LOCATION:Bogor Baru Blok B 6 no. 5 Bogor Jawa Barat (Djawa Barat) 16152 Indonesia
END:VEVENT

END:VCALENDAR
