BEGIN:VCALENDAR
VERSION:2.0
PRODID:-//hacksw/handcal//NONSGML v1.0//EN
BEGIN:VEVENT
UID:ad8ae1239b796ca0ed101729cdb26983
DTSTAMP:20260422T012028Z

DTSTART:20220328T000000
DTEND:20220831T235959
SUMMARY:Online TTC "Inside Flow Academy" on TINT (20 TRC)
DESCRIPTION: \nLearn from the founder of Inside Flow and top senior teachers.\nThis first-ever online teacher training course for Inside Flow is designed to teach all the essential details of the Inside Flow style over the course of 48 videos divided into 11 chapters.\nIn this online course from TINT ACADEMY, you will learn a simple way to approach the Inside Flow technique as well as all that it takes to teach it, build a career and become a certified teacher. \nThe training included detailed lessons on the key areas of Inside Flow including theory, practice, music, teaching, sequencing, and how to create Inside Flows. You will learn 4 different flows from 4 different teachers:\n\nYoung Ho Kim\nAmi Norton\nAlexey Gaevskij\nJanine Lustforlife\n\nIn order to encourage learning, this academy program is accompanied by exam questions to help you review the newly acquired knowledge of each lesson.\nAfter having completed the video series, you will be able to submit your responses online to receive a teacher certificate from Inside Flow and TINT Academy. In order to pass the exam, you will have to submit a video of yourself teaching one of the Inside Flows from this program.\n48 Video Lessons\n\nDetailed lessons on the key areas of Inside Flow including theory, practice, 4 new flows, music, teaching, sequencing, and how to create Inside Flows. \nAcademy Certificate\n\nGuidance with assessment quizzes. Passing the final exam will be rewarded with a certificate of completion and official permission to teach Inside Flow.\nLifetime-Access\n\n \n\n\n

X-ALT-DESC;FMTTYPE=text/html:<!DOCTYPE HTML PUBLIC "-//W3C//DTD HTML 3.2//EN">\n<HTML>\n<HEAD>\n<META NAME="Generator" CONTENT="MS Exchange Server version 08.00.0681.000">\n<TITLE></TITLE>\n</HEAD>\n<BODY>\n<!-- Converted from text/rtf format -->\n\n<h2> </h2><br /><p>Learn from the founder of Inside Flow and top senior teachers.</p><br /><p>This first-ever online teacher training course for <strong>Inside Flow</strong> is designed to teach all the essential details of the Inside Flow style over the course of 48 videos divided into 11 chapters.</p><br /><p>In this online course from <strong>TINT ACADEMY</strong>, you will learn a simple way to approach the Inside Flow technique as well as all that it takes to teach it, build a career and become a certified teacher. </p><br /><p>The training included detailed lessons on the key areas of Inside Flow including theory, practice, music, teaching, sequencing, and how to create Inside Flows. You will learn 4 different flows from 4 different teachers:</p><br /><ul><br /><li>Young Ho Kim</li><br /><li>Ami Norton</li><br /><li>Alexey Gaevskij</li><br /><li>Janine Lustforlife</li><br /></ul><br /><p>In order to encourage learning, this academy program is accompanied by exam questions to help you review the newly acquired knowledge of each lesson.</p><br /><p>After having completed the video series, you will be able to submit your responses online to receive a <strong>teacher certificate</strong> from Inside Flow and TINT Academy. In order to pass the exam, you will have to submit a video of yourself teaching one of the Inside Flows from this program.</p><br /><h4 class="et_pb_module_header"><strong>48 Video Lessons</strong></h4><br /><div class="et_pb_blurb_description"><br /><p>Detailed lessons on the key areas of Inside Flow including theory, practice, 4 new flows, music, teaching, sequencing, and how to create Inside Flows. </p><br /><h4 class="et_pb_module_header"><strong>Academy Certificate</strong></h4><br /><div class="et_pb_blurb_description"><br /><p>Guidance with assessment quizzes. Passing the final exam will be rewarded with a certificate of completion and official permission to teach Inside Flow.</p><br /><h4 class="et_pb_module_header">Lifetime-Access</h4><br /><div class="et_pb_blurb_description"><br /><p> </p><br /></div><br /></div><br /></div>\n\n</BODY>\n</HTML>

LOCATION:TINT GmbH  Mainzer Landstraße 180 Frankfurt am Main 60327 Germany
END:VEVENT

END:VCALENDAR
